BEGIN:VCALENDAR
VERSION:2.0
PRODID:-//Willkommen - ECPv6.15.20//NONSGML v1.0//EN
CALSCALE:GREGORIAN
METHOD:PUBLISH
X-ORIGINAL-URL:https://heilpraxis-bliemel.de
X-WR-CALDESC:Veranstaltungen für Willkommen
REFRESH-INTERVAL;VALUE=DURATION:PT1H
X-Robots-Tag:noindex
X-PUBLISHED-TTL:PT1H
BEGIN:VTIMEZONE
TZID:Europe/Berlin
BEGIN:DAYLIGHT
TZOFFSETFROM:+0100
TZOFFSETTO:+0200
TZNAME:CEST
DTSTART:20230326T010000
END:DAYLIGHT
BEGIN:STANDARD
TZOFFSETFROM:+0200
TZOFFSETTO:+0100
TZNAME:CET
DTSTART:20231029T010000
END:STANDARD
BEGIN:DAYLIGHT
TZOFFSETFROM:+0100
TZOFFSETTO:+0200
TZNAME:CEST
DTSTART:20240331T010000
END:DAYLIGHT
BEGIN:STANDARD
TZOFFSETFROM:+0200
TZOFFSETTO:+0100
TZNAME:CET
DTSTART:20241027T010000
END:STANDARD
BEGIN:DAYLIGHT
TZOFFSETFROM:+0100
TZOFFSETTO:+0200
TZNAME:CEST
DTSTART:20250330T010000
END:DAYLIGHT
BEGIN:STANDARD
TZOFFSETFROM:+0200
TZOFFSETTO:+0100
TZNAME:CET
DTSTART:20251026T010000
END:STANDARD
END:VTIMEZONE
BEGIN:VEVENT
DTSTART;TZID=Europe/Berlin:20240704T170000
DTEND;TZID=Europe/Berlin:20240704T183000
DTSTAMP:20260421T162924
CREATED:20240627T205736Z
LAST-MODIFIED:20240627T210208Z
UID:1075-1720112400-1720117800@heilpraxis-bliemel.de
SUMMARY:Vitalstoff Info - Deine Gesundheit im Mittelpunkt
DESCRIPTION:Meine liebe Freundin Katrin Knoll bietet Euch zwei kostenfreie Informationsabende (zweiter Abend am 16.06 um 18:00 Uhr) in den Räumen meiner Praxis an. Wir laden Euch herzlich zu diesen Veranstaltungen ein. In einer gemütlichen Runde wird Euch Katrin auch viel Interessantes über die Produkte der Fa. FitLine erzählen und ihr könnt diese auch selbst ausprobieren.Wir würden uns über Euer Kommen sehr freuen
URL:https://heilpraxis-bliemel.de/event/vitalstoff-info-deine-gesundheit-im-mittelpunkt
LOCATION:Naturheilpraxis Bliemel\, Cadolzburger Str. 3\, Fürth\, 90766\, Deutschland
END:VEVENT
END:VCALENDAR